BEGIN:VCALENDAR
VERSION:2.0
CALSCALE:GREGORIAN
PRODID:-//Diputació de Barcelona//DibaCMS//EN
BEGIN:VEVENT
UID:9266
DTSTAMP:20260425T194810
DTSTART:20220122T220000
DTEND:20220122T000000
SUMMARY:The Other Side presenta Animals
LOCATION:
METHOD:PUBLISH
X-WR-CALNAME:info@parets.cat
X-WR-TIMEZONE:Europe/Madrid
DESCRIPTION:Organitza: Servei de Cultura
URI:https://www.parets.cat/actualitat/agenda/the-other-side-presenta-animals.html
CLASS:PUBLIC
END:VEVENT
END:VCALENDAR
