BEGIN:VCALENDAR
VERSION:2.0
CALSCALE:GREGORIAN
PRODID:-//Diputació de Barcelona//DibaCMS//EN
BEGIN:VEVENT
UID:9267
DTSTAMP:20260425T214149
DTSTART:20220122T100000
DTEND:20220122T000000
SUMMARY:Ral·li - 5a Gimcana - Concurs fotografia
LOCATION:
METHOD:PUBLISH
X-WR-CALNAME:info@parets.cat
X-WR-TIMEZONE:Europe/Madrid
DESCRIPTION:Organitza: Associació Fotogràfica Parets
URI:https://www.parets.cat/actualitat/agenda/ralli-5a-gimcana-concurs-fotografia.html
CLASS:PUBLIC
END:VEVENT
END:VCALENDAR
