BEGIN:VCALENDAR
VERSION:2.0
CALSCALE:GREGORIAN
PRODID:-//Diputació de Barcelona//DibaCMS//EN
BEGIN:VEVENT
UID:9268
DTSTAMP:20260425T194531
DTSTART:20220122T100000
DTEND:20220122T000000
SUMMARY:Toc de campanes i tronada d'inici de festa
LOCATION:
METHOD:PUBLISH
X-WR-CALNAME:info@parets.cat
X-WR-TIMEZONE:Europe/Madrid
DESCRIPTION:Organitza: Diables de Parets i Parròquia Sant Esteve
URI:https://www.parets.cat/actualitat/agenda/toc-de-campanes-i-tronada-dinici-de-festa.html
CLASS:PUBLIC
END:VEVENT
END:VCALENDAR
