BEGIN:VCALENDAR
VERSION:2.0
CALSCALE:GREGORIAN
PRODID:-//Diputació de Barcelona//DibaCMS//EN
BEGIN:VEVENT
UID:9272
DTSTAMP:20260425T182355
DTSTART:20220122T110000
DTEND:20220123T210000
SUMMARY:VIII Parets Medieval. Fira Medieval de Parets
LOCATION:
METHOD:PUBLISH
X-WR-CALNAME:info@parets.cat
X-WR-TIMEZONE:Europe/Madrid
DESCRIPTION:Organitza: Servei de Cultura
URI:https://www.parets.cat/actualitat/agenda/viii-parets-medieval-fira-medieval-de-parets.html
CLASS:PUBLIC
END:VEVENT
END:VCALENDAR
