BEGIN:VCALENDAR
VERSION:2.0
CALSCALE:GREGORIAN
PRODID:-//Diputació de Barcelona//DibaCMS//EN
BEGIN:VEVENT
UID:9274
DTSTAMP:20260425T150530
DTSTART:20220122T123000
DTEND:20220122T000000
SUMMARY:Inauguració de la V Trobada de bèsties Diables Parets
LOCATION:
METHOD:PUBLISH
X-WR-CALNAME:info@parets.cat
X-WR-TIMEZONE:Europe/Madrid
DESCRIPTION:Organitza: Diables Parets
URI:https://www.parets.cat/actualitat/agenda/inauguracio-de-la-v-trobada-de-besties-diables-parets.html
CLASS:PUBLIC
END:VEVENT
END:VCALENDAR
