BEGIN:VCALENDAR
VERSION:2.0
CALSCALE:GREGORIAN
PRODID:-//Diputació de Barcelona//DibaCMS//EN
BEGIN:VEVENT
UID:9276
DTSTAMP:20260425T200653
DTSTART:20220122T180000
DTEND:20220122T000000
SUMMARY:Xocolatada i cremat de rom
LOCATION:
METHOD:PUBLISH
X-WR-CALNAME:info@parets.cat
X-WR-TIMEZONE:Europe/Madrid
DESCRIPTION:Organitza: Comissió de Festes de Parets
URI:https://www.parets.cat/actualitat/agenda/xocolatada-i-cremat-de-rom.html
CLASS:PUBLIC
END:VEVENT
END:VCALENDAR
