BEGIN:VCALENDAR
VERSION:2.0
CALSCALE:GREGORIAN
PRODID:-//Diputació de Barcelona//DibaCMS//EN
BEGIN:VEVENT
UID:9283
DTSTAMP:20260425T150630
DTSTART:20220123T110000
DTEND:20220123T000000
SUMMARY:Pessebre monumental
LOCATION:
METHOD:PUBLISH
X-WR-CALNAME:info@parets.cat
X-WR-TIMEZONE:Europe/Madrid
DESCRIPTION:Organitza: Agrupació Pessebrista Parets
URI:https://www.parets.cat/actualitat/agenda/9283-pessebre-monumental.html
CLASS:PUBLIC
END:VEVENT
END:VCALENDAR
