BEGIN:VCALENDAR
VERSION:2.0
CALSCALE:GREGORIAN
PRODID:-//Diputació de Barcelona//DibaCMS//EN
BEGIN:VEVENT
UID:9285
DTSTAMP:20260425T164304
DTSTART:20220123T113000
DTEND:20220123T000000
SUMMARY:Cercavila de Gegants
LOCATION:
METHOD:PUBLISH
X-WR-CALNAME:info@parets.cat
X-WR-TIMEZONE:Europe/Madrid
DESCRIPTION:Organitza: Colla de Gegants, Gallers i  Bestiari de Parets
URI:https://www.parets.cat/actualitat/agenda/9285-cercavila-de-gegants.html
CLASS:PUBLIC
END:VEVENT
END:VCALENDAR
