BEGIN:VCALENDAR
VERSION:2.0
CALSCALE:GREGORIAN
PRODID:-//Diputació de Barcelona//DibaCMS//EN
BEGIN:VEVENT
UID:9286
DTSTAMP:20260425T164153
DTSTART:20220123T120000
DTEND:20220123T000000
SUMMARY:Iniciació al correfoc
LOCATION:
METHOD:PUBLISH
X-WR-CALNAME:info@parets.cat
X-WR-TIMEZONE:Europe/Madrid
DESCRIPTION:Organitza: Diables Parets
URI:https://www.parets.cat/actualitat/agenda/iniciacio-al-correfoc.html
CLASS:PUBLIC
END:VEVENT
END:VCALENDAR
