BEGIN:VCALENDAR
VERSION:2.0
CALSCALE:GREGORIAN
PRODID:-//Diputació de Barcelona//DibaCMS//EN
BEGIN:VEVENT
UID:9287
DTSTAMP:20260425T150700
DTSTART:20220123T130500
DTEND:20220123T000000
SUMMARY:Pagament de soldades
LOCATION:
METHOD:PUBLISH
X-WR-CALNAME:info@parets.cat
X-WR-TIMEZONE:Europe/Madrid
DESCRIPTION:Organitza: Servei de Cultura
URI:https://www.parets.cat/actualitat/agenda/pagament-de-soldades.html
CLASS:PUBLIC
END:VEVENT
END:VCALENDAR
