BEGIN:VCALENDAR
VERSION:2.0
CALSCALE:GREGORIAN
PRODID:-//Diputació de Barcelona//DibaCMS//EN
BEGIN:VEVENT
UID:9288
DTSTAMP:20260425T165311
DTSTART:20220123T133000
DTEND:20220123T000000
SUMMARY:Ballada dels Gegants
LOCATION:
METHOD:PUBLISH
X-WR-CALNAME:info@parets.cat
X-WR-TIMEZONE:Europe/Madrid
DESCRIPTION:Organitza: Colla de Gegants, Gallers i  Bestiari de Parets
URI:https://www.parets.cat/actualitat/agenda/ballada-dels-gegants.html
CLASS:PUBLIC
END:VEVENT
END:VCALENDAR
