BEGIN:VCALENDAR
VERSION:2.0
CALSCALE:GREGORIAN
PRODID:-//Diputació de Barcelona//DibaCMS//EN
BEGIN:VEVENT
UID:9291
DTSTAMP:20260425T182011
DTSTART:20220124T090000
DTEND:20220124T200000
SUMMARY:Acapte de sang de Festa Major d'Hivern
LOCATION:
METHOD:PUBLISH
X-WR-CALNAME:info@parets.cat
X-WR-TIMEZONE:Europe/Madrid
DESCRIPTION:Organitza: Banc de sang i teixits i Associació de Donants de Sang del Vallès Oriental
URI:https://www.parets.cat/actualitat/agenda/acapte-de-sang-de-festa-major-dhivern.html
CLASS:PUBLIC
END:VEVENT
END:VCALENDAR
