BEGIN:VCALENDAR
VERSION:2.0
CALSCALE:GREGORIAN
PRODID:-//Diputació de Barcelona//DibaCMS//EN
BEGIN:VEVENT
UID:9295
DTSTAMP:20260425T131204
DTSTART:20220125T180000
DTEND:20220125T000000
SUMMARY:Espectacle especial aniversari: Un toc de màgia a la biblioteca
LOCATION:
METHOD:PUBLISH
X-WR-CALNAME:info@parets.cat
X-WR-TIMEZONE:Europe/Madrid
DESCRIPTION:Organitza: Biblioteca Can Rajoler
URI:https://www.parets.cat/actualitat/agenda/espectacle-especial-aniversari-un-toc-de-magia-a-la-biblioteca.html
CLASS:PUBLIC
END:VEVENT
END:VCALENDAR
