BEGIN:VCALENDAR
VERSION:2.0
CALSCALE:GREGORIAN
PRODID:-//Diputació de Barcelona//DibaCMS//EN
BEGIN:VEVENT
UID:9299
DTSTAMP:20260425T194622
DTSTART:20220201T180000
DTEND:20220201T183000
SUMMARY:Story time
LOCATION:
METHOD:PUBLISH
X-WR-CALNAME:info@parets.cat
X-WR-TIMEZONE:Europe/Madrid
DESCRIPTION:Organitza: Biblioteca Can Rajoler
URI:https://www.parets.cat/actualitat/agenda/9299-story-time.html
CLASS:PUBLIC
END:VEVENT
END:VCALENDAR
