BEGIN:VCALENDAR
VERSION:2.0
CALSCALE:GREGORIAN
PRODID:-//Diputació de Barcelona//DibaCMS//EN
BEGIN:VEVENT
UID:9302
DTSTAMP:20260425T194530
DTSTART:20220204T190000
DTEND:20220204T000000
SUMMARY:Inauguració de l'exposició "Jo, dona"
LOCATION:
METHOD:PUBLISH
X-WR-CALNAME:info@parets.cat
X-WR-TIMEZONE:Europe/Madrid
DESCRIPTION:Organitza: Servei de cultura i Associació Fotogràfica Parets
URI:https://www.parets.cat/actualitat/agenda/inauguracio-de-lexposicio-jo-dona.html
CLASS:PUBLIC
END:VEVENT
END:VCALENDAR
