BEGIN:VCALENDAR
VERSION:2.0
CALSCALE:GREGORIAN
PRODID:-//Diputació de Barcelona//DibaCMS//EN
BEGIN:VEVENT
UID:9304
DTSTAMP:20260425T143518
DTSTART:20220206T103000
DTEND:20220206T000000
SUMMARY:Fes gol contra el Càncer
LOCATION:
METHOD:PUBLISH
X-WR-CALNAME:info@parets.cat
X-WR-TIMEZONE:Europe/Madrid
DESCRIPTION:Organitza: Parets Contra el Càncer amb la col·laboració del Club Handbol Parets
URI:https://www.parets.cat/actualitat/agenda/fes-gol-contra-el-cancer.html
CLASS:PUBLIC
END:VEVENT
END:VCALENDAR
