BEGIN:VCALENDAR
VERSION:2.0
CALSCALE:GREGORIAN
PRODID:-//Diputació de Barcelona//DibaCMS//EN
BEGIN:VEVENT
UID:9305
DTSTAMP:20260425T133604
DTSTART:20220206T183000
DTEND:20220206T000000
SUMMARY:Teatre: Els colors de Duke Ellington
LOCATION:
METHOD:PUBLISH
X-WR-CALNAME:info@parets.cat
X-WR-TIMEZONE:Europe/Madrid
DESCRIPTION:Organitza: Servei de Cultura
URI:https://www.parets.cat/actualitat/agenda/teatre-els-colors-de-duke-ellington.html
CLASS:PUBLIC
END:VEVENT
END:VCALENDAR
