BEGIN:VCALENDAR
VERSION:2.0
CALSCALE:GREGORIAN
PRODID:-//Diputació de Barcelona//DibaCMS//EN
BEGIN:VEVENT
UID:9306
DTSTAMP:20260425T180949
DTSTART:20220207T190000
DTEND:20220207T200000
SUMMARY:Conversation groupe in english a càrrec d’Elena Calvo
LOCATION:
METHOD:PUBLISH
X-WR-CALNAME:info@parets.cat
X-WR-TIMEZONE:Europe/Madrid
DESCRIPTION:Organitza: Biblioteca Can Rajoler
URI:https://www.parets.cat/actualitat/agenda/9306-conversation-groupe-in-english-a-carrec-delena-calvo.html
CLASS:PUBLIC
END:VEVENT
END:VCALENDAR
