BEGIN:VCALENDAR
VERSION:2.0
CALSCALE:GREGORIAN
PRODID:-//Diputació de Barcelona//DibaCMS//EN
BEGIN:VEVENT
UID:9309
DTSTAMP:20260426T021318
DTSTART:20220208T181500
DTEND:20220208T000000
SUMMARY:Bressol de Contes a càrrec de Pati de Contes
LOCATION:
METHOD:PUBLISH
X-WR-CALNAME:info@parets.cat
X-WR-TIMEZONE:Europe/Madrid
DESCRIPTION:Organitza: Biblioteca Can Butjosa
URI:https://www.parets.cat/actualitat/agenda/bressol-de-contes-a-carrec-de-pati-de-contes.html
CLASS:PUBLIC
END:VEVENT
END:VCALENDAR
