BEGIN:VCALENDAR
VERSION:2.0
CALSCALE:GREGORIAN
PRODID:-//Diputació de Barcelona//DibaCMS//EN
BEGIN:VEVENT
UID:9317
DTSTAMP:20260425T161217
DTSTART:20220216T183000
DTEND:20220216T200000
SUMMARY:Teixim feminismes
LOCATION:
METHOD:PUBLISH
X-WR-CALNAME:info@parets.cat
X-WR-TIMEZONE:Europe/Madrid
DESCRIPTION:Organitza: Biblioteca Can Rajoler
URI:https://www.parets.cat/actualitat/agenda/9317-teixim-feminismes.html
CLASS:PUBLIC
END:VEVENT
END:VCALENDAR
