BEGIN:VCALENDAR
VERSION:2.0
CALSCALE:GREGORIAN
PRODID:-//Diputació de Barcelona//DibaCMS//EN
BEGIN:VEVENT
UID:9324
DTSTAMP:20260425T162205
DTSTART:20220224T170000
DTEND:20220224T000000
SUMMARY:Carnestoltes al Casal Sant Jordi
LOCATION:
METHOD:PUBLISH
X-WR-CALNAME:info@parets.cat
X-WR-TIMEZONE:Europe/Madrid
DESCRIPTION:Organitza: Casals Municipals de Gent Gran
URI:https://www.parets.cat/actualitat/agenda/carnestoltes-al-casal-sant-jordi.html
CLASS:PUBLIC
END:VEVENT
END:VCALENDAR
