BEGIN:VCALENDAR
VERSION:2.0
CALSCALE:GREGORIAN
PRODID:-//Diputació de Barcelona//DibaCMS//EN
BEGIN:VEVENT
UID:9326
DTSTAMP:20260425T142806
DTSTART:20220224T180000
DTEND:20220224T000000
SUMMARY:Hora del conte especial Carnaval
LOCATION:
METHOD:PUBLISH
X-WR-CALNAME:info@parets.cat
X-WR-TIMEZONE:Europe/Madrid
DESCRIPTION:Organitza: Biblioteca Can Butjosa
URI:https://www.parets.cat/actualitat/agenda/9326-hora-del-conte-especial-carnaval.html
CLASS:PUBLIC
END:VEVENT
END:VCALENDAR
