BEGIN:VCALENDAR
VERSION:2.0
CALSCALE:GREGORIAN
PRODID:-//Diputació de Barcelona//DibaCMS//EN
BEGIN:VEVENT
UID:9329
DTSTAMP:20260425T182918
DTSTART:20220226T170000
DTEND:20220226T000000
SUMMARY:Escape Room The Addams Family
LOCATION:
METHOD:PUBLISH
X-WR-CALNAME:info@parets.cat
X-WR-TIMEZONE:Europe/Madrid
DESCRIPTION:Organitza: Casal de Joves Cal Jardiner
URI:https://www.parets.cat/actualitat/agenda/escape-room-the-addams-family.html
CLASS:PUBLIC
END:VEVENT
END:VCALENDAR
