BEGIN:VCALENDAR
VERSION:2.0
CALSCALE:GREGORIAN
PRODID:-//Diputació de Barcelona//DibaCMS//EN
BEGIN:VEVENT
UID:9331
DTSTAMP:20260425T130819
DTSTART:20220226T180000
DTEND:20220226T000000
SUMMARY:Torneig de futbolí
LOCATION:
METHOD:PUBLISH
X-WR-CALNAME:info@parets.cat
X-WR-TIMEZONE:Europe/Madrid
DESCRIPTION:Organitza: Casal de Joves Cal Jardiner
URI:https://www.parets.cat/actualitat/agenda/torneig-de-futboli.html
CLASS:PUBLIC
END:VEVENT
END:VCALENDAR
