BEGIN:VCALENDAR
VERSION:2.0
CALSCALE:GREGORIAN
PRODID:-//Diputació de Barcelona//DibaCMS//EN
BEGIN:VEVENT
UID:9333
DTSTAMP:20260425T164629
DTSTART:20220227T100000
DTEND:20220227T000000
SUMMARY:Carnestoltes 2022
LOCATION:
METHOD:PUBLISH
X-WR-CALNAME:info@parets.cat
X-WR-TIMEZONE:Europe/Madrid
DESCRIPTION:Organitza: Ajuntament de Parets i Comisió de Festes
URI:https://www.parets.cat/actualitat/agenda/carnestoltes-2022.html
CLASS:PUBLIC
END:VEVENT
END:VCALENDAR
