BEGIN:VCALENDAR
VERSION:2.0
CALSCALE:GREGORIAN
PRODID:-//Diputació de Barcelona//DibaCMS//EN
BEGIN:VEVENT
UID:9335
DTSTAMP:20260425T145601
DTSTART:20220301T180000
DTEND:20220301T183000
SUMMARY:Story time: The trhee little pigs
LOCATION:
METHOD:PUBLISH
X-WR-CALNAME:info@parets.cat
X-WR-TIMEZONE:Europe/Madrid
DESCRIPTION:Organitza: Biblioteca Can Rajoler
URI:https://www.parets.cat/actualitat/agenda/story-time-the-trhee-little-pigs.html
CLASS:PUBLIC
END:VEVENT
END:VCALENDAR
