BEGIN:VCALENDAR
VERSION:2.0
CALSCALE:GREGORIAN
PRODID:-//Diputació de Barcelona//DibaCMS//EN
BEGIN:VEVENT
UID:9336
DTSTAMP:20260425T163356
DTSTART:20220301T180000
DTEND:20220301T190000
SUMMARY:Presentació institucional de la Campanya Març de Dones i Inauguració Servei Punt LILA
LOCATION:
METHOD:PUBLISH
X-WR-CALNAME:info@parets.cat
X-WR-TIMEZONE:Europe/Madrid
DESCRIPTION:Organitza: Servei de Feminisme-LGTBI i Transversalitats
URI:https://www.parets.cat/actualitat/agenda/presentacio-institucional-de-la-campanya-marc-de-dones-i-inauguracio-servei-punt-lila.html
CLASS:PUBLIC
END:VEVENT
END:VCALENDAR
