BEGIN:VCALENDAR
VERSION:2.0
CALSCALE:GREGORIAN
PRODID:-//Diputació de Barcelona//DibaCMS//EN
BEGIN:VEVENT
UID:9337
DTSTAMP:20260425T131129
DTSTART:20220301T000000
DTEND:20220325T000000
SUMMARY:Exposició Dones Grans, Grans Dones
LOCATION:
METHOD:PUBLISH
X-WR-CALNAME:info@parets.cat
X-WR-TIMEZONE:Europe/Madrid
DESCRIPTION:Organitza: Casals Municipals de Gent Gran
URI:https://www.parets.cat/actualitat/agenda/exposicio-dones-grans-grans-dones.html
CLASS:PUBLIC
END:VEVENT
END:VCALENDAR
