BEGIN:VCALENDAR
VERSION:2.0
CALSCALE:GREGORIAN
PRODID:-//Diputació de Barcelona//DibaCMS//EN
BEGIN:VEVENT
UID:9343
DTSTAMP:20260426T021317
DTSTART:20220305T170000
DTEND:20220305T000000
SUMMARY:Torneig 3x3 de bàsquet, amb la col·laboració de l’Associació Triple
LOCATION:
METHOD:PUBLISH
X-WR-CALNAME:info@parets.cat
X-WR-TIMEZONE:Europe/Madrid
DESCRIPTION:Organitza: Casal de Joves Cal Jardiner
URI:https://www.parets.cat/actualitat/agenda/torneig-3x3-de-basquet-amb-la-collaboracio-de-lassociacio-triple.html
CLASS:PUBLIC
END:VEVENT
END:VCALENDAR
