BEGIN:VCALENDAR
VERSION:2.0
CALSCALE:GREGORIAN
PRODID:-//Diputació de Barcelona//DibaCMS//EN
BEGIN:VEVENT
UID:9344
DTSTAMP:20260425T143451
DTSTART:20220306T090000
DTEND:20220306T000000
SUMMARY:Espai CampoAmor, dins del Març de Dones 2022
LOCATION:
METHOD:PUBLISH
X-WR-CALNAME:info@parets.cat
X-WR-TIMEZONE:Europe/Madrid
DESCRIPTION:Organitza: Servei d’Igualtat – Feminismes
URI:https://www.parets.cat/actualitat/agenda/espai-campoamor-dins-del-marc-de-dones-2022.html
CLASS:PUBLIC
END:VEVENT
END:VCALENDAR
