BEGIN:VCALENDAR
VERSION:2.0
CALSCALE:GREGORIAN
PRODID:-//Diputació de Barcelona//DibaCMS//EN
BEGIN:VEVENT
UID:9354
DTSTAMP:20260425T145808
DTSTART:20220312T180000
DTEND:20220312T000000
SUMMARY: Lliga de freestyle VallRap Batlle’22
LOCATION:
METHOD:PUBLISH
X-WR-CALNAME:info@parets.cat
X-WR-TIMEZONE:Europe/Madrid
DESCRIPTION:Organitza: Casal de Joves Cal Jardiner
URI:https://www.parets.cat/actualitat/agenda/-lliga-de-freestyle-vallrap-batlle22.html
CLASS:PUBLIC
END:VEVENT
END:VCALENDAR
