BEGIN:VCALENDAR
VERSION:2.0
CALSCALE:GREGORIAN
PRODID:-//Diputació de Barcelona//DibaCMS//EN
BEGIN:VEVENT
UID:9356
DTSTAMP:20260425T161837
DTSTART:20220312T170000
DTEND:20220312T210000
SUMMARY:Dia de Andalucia
LOCATION:
METHOD:PUBLISH
X-WR-CALNAME:info@parets.cat
X-WR-TIMEZONE:Europe/Madrid
DESCRIPTION:Organitza: Grup Municipal PSC
URI:https://www.parets.cat/actualitat/agenda/dia-de-andalucia.html
CLASS:PUBLIC
END:VEVENT
END:VCALENDAR
