BEGIN:VCALENDAR
VERSION:2.0
CALSCALE:GREGORIAN
PRODID:-//Diputació de Barcelona//DibaCMS//EN
BEGIN:VEVENT
UID:9360
DTSTAMP:20260425T142838
DTSTART:20220314T183000
DTEND:20220314T000000
SUMMARY: Groupe de conversation en françaisa càrrec de Marlen Castro
LOCATION:
METHOD:PUBLISH
X-WR-CALNAME:info@parets.cat
X-WR-TIMEZONE:Europe/Madrid
DESCRIPTION:Organitza: Biblioteca Can Rajoler
URI:https://www.parets.cat/actualitat/agenda/-groupe-de-conversation-en-francaisa-carrec-de-marlen-castro.html
CLASS:PUBLIC
END:VEVENT
END:VCALENDAR
