BEGIN:VCALENDAR
VERSION:2.0
CALSCALE:GREGORIAN
PRODID:-//Diputació de Barcelona//DibaCMS//EN
BEGIN:VEVENT
UID:9361
DTSTAMP:20260425T193836
DTSTART:20220315T180000
DTEND:20220315T000000
SUMMARY:Hora del conte per a nadons: Dalt del cel, a càrrec de Cristina Noguer (Creixent amb art)
LOCATION:
METHOD:PUBLISH
X-WR-CALNAME:info@parets.cat
X-WR-TIMEZONE:Europe/Madrid
DESCRIPTION:Organitza: Biblioteca Can Rajoler
URI:https://www.parets.cat/actualitat/agenda/hora-del-conte-per-a-nadons-dalt-del-cel-a-carrec-de-cristina-noguer-creixent-amb-art.html
CLASS:PUBLIC
END:VEVENT
END:VCALENDAR
