BEGIN:VCALENDAR
VERSION:2.0
CALSCALE:GREGORIAN
PRODID:-//Diputació de Barcelona//DibaCMS//EN
BEGIN:VEVENT
UID:9362
DTSTAMP:20260425T194653
DTSTART:20220315T181500
DTEND:20220315T000000
SUMMARY: Taller familiar Any de Rondalles
LOCATION:
METHOD:PUBLISH
X-WR-CALNAME:info@parets.cat
X-WR-TIMEZONE:Europe/Madrid
DESCRIPTION:Organitza: Biblioteca Can Butjosa
URI:https://www.parets.cat/actualitat/agenda/-taller-familiar-any-de-rondalles.html
CLASS:PUBLIC
END:VEVENT
END:VCALENDAR
