BEGIN:VCALENDAR
VERSION:2.0
CALSCALE:GREGORIAN
PRODID:-//Diputació de Barcelona//DibaCMS//EN
BEGIN:VEVENT
UID:9367
DTSTAMP:20260425T214032
DTSTART:20220317T100000
DTEND:20220317T000000
SUMMARY: Visita guiada a l’església Sant Jaume per a la gent gran
LOCATION:
METHOD:PUBLISH
X-WR-CALNAME:info@parets.cat
X-WR-TIMEZONE:Europe/Madrid
DESCRIPTION:Organitza: Casals Municipals de Gent Gran
URI:https://www.parets.cat/actualitat/agenda/-visita-guiada-a-lesglesia-sant-jaume-per-a-la-gent-gran.html
CLASS:PUBLIC
END:VEVENT
END:VCALENDAR
