BEGIN:VCALENDAR
VERSION:2.0
CALSCALE:GREGORIAN
PRODID:-//Diputació de Barcelona//DibaCMS//EN
BEGIN:VEVENT
UID:9369
DTSTAMP:20260425T142718
DTSTART:20220318T190000
DTEND:20220318T000000
SUMMARY:Obertura de l’exposició dels artistes del taller de ceràmica del Casal Can Butjosa
LOCATION:
METHOD:PUBLISH
X-WR-CALNAME:info@parets.cat
X-WR-TIMEZONE:Europe/Madrid
DESCRIPTION:Organitza: Servei de Cultura
URI:https://www.parets.cat/actualitat/agenda/obertura-de-lexposicio-dels-artistes-del-taller-de-ceramica-del-casal-can-butjosa.html
CLASS:PUBLIC
END:VEVENT
END:VCALENDAR
