BEGIN:VCALENDAR
VERSION:2.0
CALSCALE:GREGORIAN
PRODID:-//Diputació de Barcelona//DibaCMS//EN
BEGIN:VEVENT
UID:9370
DTSTAMP:20260425T162044
DTSTART:20220318T200000
DTEND:20220318T000000
SUMMARY:Fins quan podrem viure al Sistema Solar? Sessions d'astronomia infantil
LOCATION:
METHOD:PUBLISH
X-WR-CALNAME:info@parets.cat
X-WR-TIMEZONE:Europe/Madrid
DESCRIPTION:Organitza: Escola de la Natura
URI:https://www.parets.cat/actualitat/agenda/fins-quan-podrem-viure-al-sistema-solar-sessions-dastronomia-infantil.html
CLASS:PUBLIC
END:VEVENT
END:VCALENDAR
