BEGIN:VCALENDAR
VERSION:2.0
CALSCALE:GREGORIAN
PRODID:-//Diputació de Barcelona//DibaCMS//EN
BEGIN:VEVENT
UID:9371
DTSTAMP:20260425T143725
DTSTART:20220318T200000
DTEND:20220318T000000
SUMMARY:El Sistema Solar. Sessions d'astronomia adults
LOCATION:
METHOD:PUBLISH
X-WR-CALNAME:info@parets.cat
X-WR-TIMEZONE:Europe/Madrid
DESCRIPTION:Organitza: Escola de la Natura
URI:https://www.parets.cat/actualitat/agenda/el-sistema-solar-sessions-dastronomia-adults.html
CLASS:PUBLIC
END:VEVENT
END:VCALENDAR
