BEGIN:VCALENDAR
VERSION:2.0
CALSCALE:GREGORIAN
PRODID:-//Diputació de Barcelona//DibaCMS//EN
BEGIN:VEVENT
UID:9377
DTSTAMP:20260426T021318
DTSTART:20220322T180000
DTEND:20220322T000000
SUMMARY:Taller de poesia
LOCATION:
METHOD:PUBLISH
X-WR-CALNAME:info@parets.cat
X-WR-TIMEZONE:Europe/Madrid
DESCRIPTION:
URI:https://www.parets.cat/actualitat/agenda/taller-de-poesia.html
CLASS:PUBLIC
END:VEVENT
END:VCALENDAR
