BEGIN:VCALENDAR
VERSION:2.0
CALSCALE:GREGORIAN
PRODID:-//Diputació de Barcelona//DibaCMS//EN
BEGIN:VEVENT
UID:9378
DTSTAMP:20260425T161820
DTSTART:20220322T181500
DTEND:20220322T000000
SUMMARY:Bressol de Contes a càrrec de Mercè Martínez, d'Un Conte al Sac
LOCATION:
METHOD:PUBLISH
X-WR-CALNAME:info@parets.cat
X-WR-TIMEZONE:Europe/Madrid
DESCRIPTION:Organitza: Biblioteca Can Butjosa
URI:https://www.parets.cat/actualitat/agenda/bressol-de-contes-a-carrec-de-merce-martinez-dun-conte-al-sac.html
CLASS:PUBLIC
END:VEVENT
END:VCALENDAR
