BEGIN:VCALENDAR
VERSION:2.0
CALSCALE:GREGORIAN
PRODID:-//Diputació de Barcelona//DibaCMS//EN
BEGIN:VEVENT
UID:9382
DTSTAMP:20260425T060837
DTSTART:20220324T180000
DTEND:20220324T200000
SUMMARY:Parets amb flors
LOCATION:
METHOD:PUBLISH
X-WR-CALNAME:info@parets.cat
X-WR-TIMEZONE:Europe/Madrid
DESCRIPTION:Organitza: Escola de la Natura
URI:https://www.parets.cat/actualitat/agenda/parets-amb-flors.html
CLASS:PUBLIC
END:VEVENT
END:VCALENDAR
