BEGIN:VCALENDAR
VERSION:2.0
CALSCALE:GREGORIAN
PRODID:-//Diputació de Barcelona//DibaCMS//EN
BEGIN:VEVENT
UID:9384
DTSTAMP:20260425T052852
DTSTART:20220326T100000
DTEND:20220326T000000
SUMMARY:Marxa Violeta
LOCATION:
METHOD:PUBLISH
X-WR-CALNAME:info@parets.cat
X-WR-TIMEZONE:Europe/Madrid
DESCRIPTION:
URI:https://www.parets.cat/actualitat/agenda/marxa-violeta.html
CLASS:PUBLIC
END:VEVENT
END:VCALENDAR
