BEGIN:VCALENDAR
VERSION:2.0
CALSCALE:GREGORIAN
PRODID:-//Diputació de Barcelona//DibaCMS//EN
BEGIN:VEVENT
UID:9385
DTSTAMP:20260425T161328
DTSTART:20220327T083000
DTEND:20220327T000000
SUMMARY:Sortida amb autocar a l'Alt Camp i a la Conca de Barberà
LOCATION:
METHOD:PUBLISH
X-WR-CALNAME:info@parets.cat
X-WR-TIMEZONE:Europe/Madrid
DESCRIPTION:Organitza: Penya Blaugrana Parets
URI:https://www.parets.cat/actualitat/agenda/sortida-amb-autocar-a-lalt-camp-i-a-la-conca-de-barbera.html
CLASS:PUBLIC
END:VEVENT
END:VCALENDAR
