BEGIN:VCALENDAR
VERSION:2.0
CALSCALE:GREGORIAN
PRODID:-//Diputació de Barcelona//DibaCMS//EN
BEGIN:VEVENT
UID:9386
DTSTAMP:20260425T161959
DTSTART:20220327T170000
DTEND:20220327T000000
SUMMARY: Projecció de la pel·lícula: Tiempos de deseo, de Raquel Marques
LOCATION:
METHOD:PUBLISH
X-WR-CALNAME:info@parets.cat
X-WR-TIMEZONE:Europe/Madrid
DESCRIPTION:Organitza: Servei d’Igualtat – Feminismes
URI:https://www.parets.cat/actualitat/agenda/-projeccio-de-la-pellicula-tiempos-de-deseo-de-raquel-marques.html
CLASS:PUBLIC
END:VEVENT
END:VCALENDAR
