BEGIN:VCALENDAR
VERSION:2.0
CALSCALE:GREGORIAN
PRODID:-//Diputació de Barcelona//DibaCMS//EN
BEGIN:VEVENT
UID:9402
DTSTAMP:20260425T054810
DTSTART:20220404T000000
DTEND:20220410T000000
SUMMARY:Campanya de Dents fortes i sanes de la Generalitat de Catalunya
LOCATION:
METHOD:PUBLISH
X-WR-CALNAME:info@parets.cat
X-WR-TIMEZONE:Europe/Madrid
DESCRIPTION:Organitza: Servei d'Educació
URI:https://www.parets.cat/actualitat/agenda/campanya-de-dents-fortes-i-sanes-de-la-generalitat-de-catalunya.html
CLASS:PUBLIC
END:VEVENT
END:VCALENDAR
