BEGIN:VCALENDAR
VERSION:2.0
CALSCALE:GREGORIAN
PRODID:-//Diputació de Barcelona//DibaCMS//EN
BEGIN:VEVENT
UID:9403
DTSTAMP:20260425T194713
DTSTART:20220404T140000
DTEND:20220406T160000
SUMMARY:CRÉIXER A INSTAGRAM AMB UNA IMATGE BRILLANT
LOCATION:
METHOD:PUBLISH
X-WR-CALNAME:info@parets.cat
X-WR-TIMEZONE:Europe/Madrid
DESCRIPTION:Organitza: Servei de Comerç i Turisme
URI:https://www.parets.cat/actualitat/agenda/creixer-a-instagram-amb-una-imatge-brillant.html
CLASS:PUBLIC
END:VEVENT
END:VCALENDAR
