BEGIN:VCALENDAR
VERSION:2.0
CALSCALE:GREGORIAN
PRODID:-//Diputació de Barcelona//DibaCMS//EN
BEGIN:VEVENT
UID:9406
DTSTAMP:20260425T124452
DTSTART:20220406T183000
DTEND:20220406T000000
SUMMARY:Descobreix l'art a càrrec d'Iris Paris
LOCATION:
METHOD:PUBLISH
X-WR-CALNAME:info@parets.cat
X-WR-TIMEZONE:Europe/Madrid
DESCRIPTION:Organitza: Biblioteca Can Rajoler
URI:https://www.parets.cat/actualitat/agenda/9406-descobreix-lart-a-carrec-diris-paris.html
CLASS:PUBLIC
END:VEVENT
END:VCALENDAR
