BEGIN:VCALENDAR
VERSION:2.0
CALSCALE:GREGORIAN
PRODID:-//Diputació de Barcelona//DibaCMS//EN
BEGIN:VEVENT
UID:9407
DTSTAMP:20260425T034847
DTSTART:20220406T110000
DTEND:20220406T130000
SUMMARY:Farmàcies al carrer!
LOCATION:
METHOD:PUBLISH
X-WR-CALNAME:info@parets.cat
X-WR-TIMEZONE:Europe/Madrid
DESCRIPTION:Organitza: Servei d'Educació
URI:https://www.parets.cat/actualitat/agenda/9407-farmacies-al-carrer.html
CLASS:PUBLIC
END:VEVENT
END:VCALENDAR
