BEGIN:VCALENDAR
VERSION:2.0
CALSCALE:GREGORIAN
PRODID:-//Diputació de Barcelona//DibaCMS//EN
BEGIN:VEVENT
UID:9425
DTSTAMP:20260425T054958
DTSTART:20220422T173000
DTEND:20220422T193000
SUMMARY:Curs d'horticultura ecològica i jardineria sostenible
LOCATION:
METHOD:PUBLISH
X-WR-CALNAME:info@parets.cat
X-WR-TIMEZONE:Europe/Madrid
DESCRIPTION:Organitza: Escola de la Natura
URI:https://www.parets.cat/actualitat/agenda/9425-curs-dhorticultura-ecologica-i-jardineria-sostenible.html
CLASS:PUBLIC
END:VEVENT
END:VCALENDAR
